BEGIN:VCALENDAR
PRODID:-//github.com/ical-org/ical.net//NONSGML ical.net 4.0//EN
VERSION:2.0
BEGIN:VEVENT
DESCRIPTION:Teilnahmeoption \nvor Ort
DTEND:20260512T170000
DTSTAMP:20260424T020059Z
DTSTART:20260512T090000
LOCATION:Operngasse 6/6\, 1010 Wien
SEQUENCE:0
SUMMARY:Projektmanagement in der Pharmabranche (12.05.2026)
UID:3cb2e773-065e-4d31-932c-f3a130c09e23
END:VEVENT
END:VCALENDAR
