BEGIN:VCALENDAR
PRODID:-//github.com/ical-org/ical.net//NONSGML ical.net 4.0//EN
VERSION:2.0
BEGIN:VEVENT
DESCRIPTION:Teilnahmeoption \nvor Ort
DTEND:20260506T170000
DTSTAMP:20260424T191150Z
DTSTART:20260506T090000
LOCATION:Operngasse 6/6\, 1010 Wien
SEQUENCE:0
SUMMARY:Pharma meets Politics and Payers (06.05.2026)
UID:0c71cb69-b79d-4d4c-8942-a0bc22aba6e4
END:VEVENT
END:VCALENDAR
