BEGIN:VCALENDAR
PRODID:-//github.com/ical-org/ical.net//NONSGML ical.net 4.0//EN
VERSION:2.0
BEGIN:VEVENT
DESCRIPTION:Teilnahmeoption \nHybridVeranstaltungsort \nHybrid (vor Ort in
  der PHARMIG ACADEMY oder Online mit Microsoft Teams)
DTEND:20260609T170000
DTSTAMP:20260421T052539Z
DTSTART:20260609T090000
LOCATION:Hybrid (vor Ort in der PHARMIG ACADEMY oder Online mit Microsoft 
 Teams)
SEQUENCE:0
SUMMARY:Market Ready – Kompaktwissen für erfolgreiche Pharma-Produkte (09.
 06.2026)
UID:44abb9e5-274b-42e8-a33e-f2ce0041372d
END:VEVENT
END:VCALENDAR
