BEGIN:VCALENDAR
PRODID:-//github.com/ical-org/ical.net//NONSGML ical.net 4.0//EN
VERSION:2.0
BEGIN:VEVENT
DESCRIPTION:Teilnahmeoption \nHybridVeranstaltungsort \nHybrid (vor Ort in
  der PHARMIG ACADEMY oder Online mit Microsoft Teams)
DTEND:20261001T170000
DTSTAMP:20260421T173709Z
DTSTART:20261001T133000
LOCATION:Hybrid (vor Ort in der PHARMIG ACADEMY oder Online mit Microsoft 
 Teams)
SEQUENCE:0
SUMMARY:Let’s talk or not? (01.10.2026)
UID:50ccb036-2bf3-4f46-82be-9eb0c35075d9
END:VEVENT
END:VCALENDAR
