BEGIN:VCALENDAR
PRODID:-//github.com/ical-org/ical.net//NONSGML ical.net 4.0//EN
VERSION:2.0
BEGIN:VEVENT
DESCRIPTION:Teilnahmeoption \nvor Ort
DTEND:20260629T181000
DTSTAMP:20260420T141811Z
DTSTART:20260629T163000
LOCATION:Operngasse 6/6\, 1010 Wien
SEQUENCE:0
SUMMARY:Diskussionsreihe „Market Access for Experts“ - Interaktive Session
  (29.06.2026)
UID:03c6072e-b009-4024-a0cc-606c97d43532
END:VEVENT
END:VCALENDAR
